BEGIN:VCALENDAR
VERSION:2.0
PRODID:-//ChamberMaster//Event Calendar 2.0//EN
METHOD:PUBLISH
X-PUBLISHED-TTL:P3D
REFRESH-INTERVAL:P3D
CALSCALE:GREGORIAN
BEGIN:VEVENT
DTSTART:20200119T000000Z
DTEND:20200119T040000Z
X-MICROSOFT-CDO-ALLDAYEVENT:FALSE
SUMMARY:Ray's No Quitter (Live Music)
DESCRIPTION:"Music for our times\, full of bluster and bravado" - Keith Richards "Dark music for desperate adults\, but danceable!" - Noam Chomsky "The guitarwork always makes me smile." - George Orwell I have very little interest in 'cover bands'. Bad wedding bands\, awkward wanna-be's and the smell of "almosting it..." come to mind. This band is different. They deliver interpretations with an abandon that perhaps best described as channelling.
X-ALT-DESC;FMTTYPE=text/html:&quot\;Music for our times\, full of bluster and bravado&quot\; - Keith Richards &quot\;Dark music for desperate adults\, but danceable!&quot\; - Noam Chomsky &quot\;The guitarwork always makes me smile.&quot\; - George Orwell I have very little interest in &#39\;cover bands&#39\;. Bad wedding bands\, awkward wanna-be&#39\;s and the smell of &quot\;almosting it...&quot\; come to mind. This band is different. They deliver interpretations with an abandon that perhaps best described as channelling.
LOCATION:Oyster Bay Brewing Company 36 Audrey Ave\,Oyster Bay NY
UID:e.3419.604
SEQUENCE:3
DTSTAMP:20260420T091230Z
URL:https://oysterbay-gzcms.preview.gochambermaster.com/events/details/ray-s-no-quitter-live-music-604
END:VEVENT

END:VCALENDAR
