BEGIN:VCALENDAR
VERSION:2.0
PRODID:-//ChamberMaster//Event Calendar 2.0//EN
METHOD:PUBLISH
X-PUBLISHED-TTL:P3D
REFRESH-INTERVAL:P3D
CALSCALE:GREGORIAN
BEGIN:VEVENT
DTSTART:20190924T223000Z
DTEND:20190924T223000Z
X-MICROSOFT-CDO-ALLDAYEVENT:FALSE
SUMMARY:Oyster Babies Back to School Night
DESCRIPTION:Enrolled families are invited to our Back to School night to meet the new teachers and learn more about their plans for your child's upcoming school year.
X-ALT-DESC;FMTTYPE=text/html:Enrolled families are invited to our Back to School night to meet the new teachers and learn more about their plans for your child&#39\;s upcoming school year.&nbsp\;
LOCATION:
UID:e.3419.572
SEQUENCE:3
DTSTAMP:20260421T103834Z
URL:https://oysterbay-gzcms.preview.gochambermaster.com/events/details/oyster-babies-back-to-school-night-572
END:VEVENT

END:VCALENDAR
