BEGIN:VCALENDAR
VERSION:2.0
PRODID:-//ChamberMaster//Event Calendar 2.0//EN
METHOD:PUBLISH
X-PUBLISHED-TTL:P3D
REFRESH-INTERVAL:P3D
CALSCALE:GREGORIAN
BEGIN:VEVENT
DTSTART:20191214T170000Z
DTEND:20191214T230000Z
X-MICROSOFT-CDO-ALLDAYEVENT:FALSE
SUMMARY:Holiday Market and Tree Lighting
DESCRIPTION:All Chamber Members are welcome to participate as a Vendor in the Holiday Market.  Please go to this link to sign up.
X-ALT-DESC;FMTTYPE=text/html:All Chamber Members are welcome to participate as a Vendor in the Holiday Market.&nbsp\; Please go to this <a href="https://docs.google.com/forms/d/e/1FAIpQLSfpgSqOlDNkHZvMsrIDkMRu5RRlgjhQGx6EPnNvFOk4X8ffcA/viewform">link</a> to sign up.
LOCATION:
UID:e.3419.581
SEQUENCE:3
DTSTAMP:20260420T190445Z
URL:https://oysterbay-gzcms.preview.gochambermaster.com/events/details/holiday-market-and-tree-lighting-581
END:VEVENT

END:VCALENDAR
